BEGIN:VCALENDAR
VERSION:2.0
PRODID:-//Micas - ECPv6.15.20//NONSGML v1.0//EN
CALSCALE:GREGORIAN
METHOD:PUBLISH
X-ORIGINAL-URL:https://www.micas.restaurant
X-WR-CALDESC:Events for Micas
REFRESH-INTERVAL;VALUE=DURATION:PT1H
X-Robots-Tag:noindex
X-PUBLISHED-TTL:PT1H
BEGIN:VTIMEZONE
TZID:America/New_York
BEGIN:DAYLIGHT
TZOFFSETFROM:-0500
TZOFFSETTO:-0400
TZNAME:EDT
DTSTART:20230312T070000
END:DAYLIGHT
BEGIN:STANDARD
TZOFFSETFROM:-0400
TZOFFSETTO:-0500
TZNAME:EST
DTSTART:20231105T060000
END:STANDARD
BEGIN:DAYLIGHT
TZOFFSETFROM:-0500
TZOFFSETTO:-0400
TZNAME:EDT
DTSTART:20240310T070000
END:DAYLIGHT
BEGIN:STANDARD
TZOFFSETFROM:-0400
TZOFFSETTO:-0500
TZNAME:EST
DTSTART:20241103T060000
END:STANDARD
BEGIN:DAYLIGHT
TZOFFSETFROM:-0500
TZOFFSETTO:-0400
TZNAME:EDT
DTSTART:20250309T070000
END:DAYLIGHT
BEGIN:STANDARD
TZOFFSETFROM:-0400
TZOFFSETTO:-0500
TZNAME:EST
DTSTART:20251102T060000
END:STANDARD
END:VTIMEZONE
BEGIN:VEVENT
DTSTART;TZID=America/New_York:20240827T180000
DTEND;TZID=America/New_York:20240827T210000
DTSTAMP:20260420T160001
CREATED:20240820T234252Z
LAST-MODIFIED:20240923T183403Z
UID:16343-1724781600-1724792400@www.micas.restaurant
SUMMARY:Paul Bowman
DESCRIPTION:Paul Bowman
URL:https://www.micas.restaurant/event/paul-bowman/
LOCATION:Micas Restaurant & Pub\, 25 Logan Creek Trail\, Sapphire\, NC\, 28774\, United States
ATTACH;FMTTYPE=image/jpeg:https://www.micas.restaurant/wp-content/uploads/2024/08/Paul-Bowman.jpg
ORGANIZER;CN="Phalen Bacon":MAILTO:mferrara@micasnc.com
END:VEVENT
BEGIN:VEVENT
DTSTART;TZID=America/New_York:20240827T180000
DTEND;TZID=America/New_York:20240827T210000
DTSTAMP:20260420T160001
CREATED:20240820T234252Z
LAST-MODIFIED:20240923T183403Z
UID:16343-1724781600-1724792400@www.micas.restaurant
SUMMARY:Paul Bowman
DESCRIPTION:Paul Bowman
URL:https://www.micas.restaurant/event/paul-bowman/
LOCATION:Micas Restaurant & Pub\, 25 Logan Creek Trail\, Sapphire\, NC\, 28774\, United States
ATTACH;FMTTYPE=image/jpeg:https://www.micas.restaurant/wp-content/uploads/2024/08/Paul-Bowman.jpg
ORGANIZER;CN="Phalen Bacon":MAILTO:mferrara@micasnc.com
END:VEVENT
BEGIN:VEVENT
DTSTART;TZID=America/New_York:20240827T180000
DTEND;TZID=America/New_York:20240827T210000
DTSTAMP:20260420T160001
CREATED:20240820T234252Z
LAST-MODIFIED:20240923T183403Z
UID:16343-1724781600-1724792400@www.micas.restaurant
SUMMARY:Paul Bowman
DESCRIPTION:Paul Bowman
URL:https://www.micas.restaurant/event/paul-bowman/
LOCATION:Micas Restaurant & Pub\, 25 Logan Creek Trail\, Sapphire\, NC\, 28774\, United States
ATTACH;FMTTYPE=image/jpeg:https://www.micas.restaurant/wp-content/uploads/2024/08/Paul-Bowman.jpg
ORGANIZER;CN="Phalen Bacon":MAILTO:mferrara@micasnc.com
END:VEVENT
BEGIN:VEVENT
DTSTART;TZID=America/New_York:20240827T180000
DTEND;TZID=America/New_York:20240827T210000
DTSTAMP:20260420T160001
CREATED:20240820T234252Z
LAST-MODIFIED:20240923T183403Z
UID:16343-1724781600-1724792400@www.micas.restaurant
SUMMARY:Paul Bowman
DESCRIPTION:Paul Bowman
URL:https://www.micas.restaurant/event/paul-bowman/
LOCATION:Micas Restaurant & Pub\, 25 Logan Creek Trail\, Sapphire\, NC\, 28774\, United States
ATTACH;FMTTYPE=image/jpeg:https://www.micas.restaurant/wp-content/uploads/2024/08/Paul-Bowman.jpg
ORGANIZER;CN="Phalen Bacon":MAILTO:mferrara@micasnc.com
END:VEVENT
BEGIN:VEVENT
DTSTART;TZID=America/New_York:20240827T180000
DTEND;TZID=America/New_York:20240827T210000
DTSTAMP:20260420T160001
CREATED:20240820T234252Z
LAST-MODIFIED:20240923T183403Z
UID:16343-1724781600-1724792400@www.micas.restaurant
SUMMARY:Paul Bowman
DESCRIPTION:Paul Bowman
URL:https://www.micas.restaurant/event/paul-bowman/
LOCATION:Micas Restaurant & Pub\, 25 Logan Creek Trail\, Sapphire\, NC\, 28774\, United States
ATTACH;FMTTYPE=image/jpeg:https://www.micas.restaurant/wp-content/uploads/2024/08/Paul-Bowman.jpg
ORGANIZER;CN="Phalen Bacon":MAILTO:mferrara@micasnc.com
END:VEVENT
BEGIN:VEVENT
DTSTART;TZID=America/New_York:20240827T180000
DTEND;TZID=America/New_York:20240827T210000
DTSTAMP:20260420T160001
CREATED:20240820T234252Z
LAST-MODIFIED:20240923T183403Z
UID:16343-1724781600-1724792400@www.micas.restaurant
SUMMARY:Paul Bowman
DESCRIPTION:Paul Bowman
URL:https://www.micas.restaurant/event/paul-bowman/
LOCATION:Micas Restaurant & Pub\, 25 Logan Creek Trail\, Sapphire\, NC\, 28774\, United States
ATTACH;FMTTYPE=image/jpeg:https://www.micas.restaurant/wp-content/uploads/2024/08/Paul-Bowman.jpg
ORGANIZER;CN="Phalen Bacon":MAILTO:mferrara@micasnc.com
END:VEVENT
BEGIN:VEVENT
DTSTART;TZID=America/New_York:20240827T180000
DTEND;TZID=America/New_York:20240827T210000
DTSTAMP:20260420T160001
CREATED:20240820T234252Z
LAST-MODIFIED:20240923T183403Z
UID:16343-1724781600-1724792400@www.micas.restaurant
SUMMARY:Paul Bowman
DESCRIPTION:Paul Bowman
URL:https://www.micas.restaurant/event/paul-bowman/
LOCATION:Micas Restaurant & Pub\, 25 Logan Creek Trail\, Sapphire\, NC\, 28774\, United States
ATTACH;FMTTYPE=image/jpeg:https://www.micas.restaurant/wp-content/uploads/2024/08/Paul-Bowman.jpg
ORGANIZER;CN="Phalen Bacon":MAILTO:mferrara@micasnc.com
END:VEVENT
BEGIN:VEVENT
DTSTART;TZID=America/New_York:20240827T180000
DTEND;TZID=America/New_York:20240827T210000
DTSTAMP:20260420T160001
CREATED:20240820T234252Z
LAST-MODIFIED:20240923T183403Z
UID:16343-1724781600-1724792400@www.micas.restaurant
SUMMARY:Paul Bowman
DESCRIPTION:Paul Bowman
URL:https://www.micas.restaurant/event/paul-bowman/
LOCATION:Micas Restaurant & Pub\, 25 Logan Creek Trail\, Sapphire\, NC\, 28774\, United States
ATTACH;FMTTYPE=image/jpeg:https://www.micas.restaurant/wp-content/uploads/2024/08/Paul-Bowman.jpg
ORGANIZER;CN="Phalen Bacon":MAILTO:mferrara@micasnc.com
END:VEVENT
BEGIN:VEVENT
DTSTART;TZID=America/New_York:20240827T180000
DTEND;TZID=America/New_York:20240827T210000
DTSTAMP:20260420T160001
CREATED:20240820T234252Z
LAST-MODIFIED:20240923T183403Z
UID:16343-1724781600-1724792400@www.micas.restaurant
SUMMARY:Paul Bowman
DESCRIPTION:Paul Bowman
URL:https://www.micas.restaurant/event/paul-bowman/
LOCATION:Micas Restaurant & Pub\, 25 Logan Creek Trail\, Sapphire\, NC\, 28774\, United States
ATTACH;FMTTYPE=image/jpeg:https://www.micas.restaurant/wp-content/uploads/2024/08/Paul-Bowman.jpg
ORGANIZER;CN="Phalen Bacon":MAILTO:mferrara@micasnc.com
END:VEVENT
BEGIN:VEVENT
DTSTART;TZID=America/New_York:20240827T180000
DTEND;TZID=America/New_York:20240827T210000
DTSTAMP:20260420T160001
CREATED:20240820T234252Z
LAST-MODIFIED:20240923T183403Z
UID:16343-1724781600-1724792400@www.micas.restaurant
SUMMARY:Paul Bowman
DESCRIPTION:Paul Bowman
URL:https://www.micas.restaurant/event/paul-bowman/
LOCATION:Micas Restaurant & Pub\, 25 Logan Creek Trail\, Sapphire\, NC\, 28774\, United States
ATTACH;FMTTYPE=image/jpeg:https://www.micas.restaurant/wp-content/uploads/2024/08/Paul-Bowman.jpg
ORGANIZER;CN="Phalen Bacon":MAILTO:mferrara@micasnc.com
END:VEVENT
BEGIN:VEVENT
DTSTART;TZID=America/New_York:20240827T180000
DTEND;TZID=America/New_York:20240827T210000
DTSTAMP:20260420T160001
CREATED:20240820T234252Z
LAST-MODIFIED:20240923T183403Z
UID:16343-1724781600-1724792400@www.micas.restaurant
SUMMARY:Paul Bowman
DESCRIPTION:Paul Bowman
URL:https://www.micas.restaurant/event/paul-bowman/
LOCATION:Micas Restaurant & Pub\, 25 Logan Creek Trail\, Sapphire\, NC\, 28774\, United States
ATTACH;FMTTYPE=image/jpeg:https://www.micas.restaurant/wp-content/uploads/2024/08/Paul-Bowman.jpg
ORGANIZER;CN="Phalen Bacon":MAILTO:mferrara@micasnc.com
END:VEVENT
BEGIN:VEVENT
DTSTART;TZID=America/New_York:20240827T180000
DTEND;TZID=America/New_York:20240827T210000
DTSTAMP:20260420T160001
CREATED:20240820T234252Z
LAST-MODIFIED:20240923T183403Z
UID:16343-1724781600-1724792400@www.micas.restaurant
SUMMARY:Paul Bowman
DESCRIPTION:Paul Bowman
URL:https://www.micas.restaurant/event/paul-bowman/
LOCATION:Micas Restaurant & Pub\, 25 Logan Creek Trail\, Sapphire\, NC\, 28774\, United States
ATTACH;FMTTYPE=image/jpeg:https://www.micas.restaurant/wp-content/uploads/2024/08/Paul-Bowman.jpg
ORGANIZER;CN="Phalen Bacon":MAILTO:mferrara@micasnc.com
END:VEVENT
BEGIN:VEVENT
DTSTART;TZID=America/New_York:20240827T180000
DTEND;TZID=America/New_York:20240827T210000
DTSTAMP:20260420T160001
CREATED:20240820T234252Z
LAST-MODIFIED:20240923T183403Z
UID:16343-1724781600-1724792400@www.micas.restaurant
SUMMARY:Paul Bowman
DESCRIPTION:Paul Bowman
URL:https://www.micas.restaurant/event/paul-bowman/
LOCATION:Micas Restaurant & Pub\, 25 Logan Creek Trail\, Sapphire\, NC\, 28774\, United States
ATTACH;FMTTYPE=image/jpeg:https://www.micas.restaurant/wp-content/uploads/2024/08/Paul-Bowman.jpg
ORGANIZER;CN="Phalen Bacon":MAILTO:mferrara@micasnc.com
END:VEVENT
BEGIN:VEVENT
DTSTART;TZID=America/New_York:20240827T180000
DTEND;TZID=America/New_York:20240827T210000
DTSTAMP:20260420T160001
CREATED:20240820T234252Z
LAST-MODIFIED:20240923T183403Z
UID:16343-1724781600-1724792400@www.micas.restaurant
SUMMARY:Paul Bowman
DESCRIPTION:Paul Bowman
URL:https://www.micas.restaurant/event/paul-bowman/
LOCATION:Micas Restaurant & Pub\, 25 Logan Creek Trail\, Sapphire\, NC\, 28774\, United States
ATTACH;FMTTYPE=image/jpeg:https://www.micas.restaurant/wp-content/uploads/2024/08/Paul-Bowman.jpg
ORGANIZER;CN="Phalen Bacon":MAILTO:mferrara@micasnc.com
END:VEVENT
BEGIN:VEVENT
DTSTART;TZID=America/New_York:20240827T180000
DTEND;TZID=America/New_York:20240827T210000
DTSTAMP:20260420T160001
CREATED:20240820T234252Z
LAST-MODIFIED:20240923T183403Z
UID:16343-1724781600-1724792400@www.micas.restaurant
SUMMARY:Paul Bowman
DESCRIPTION:Paul Bowman
URL:https://www.micas.restaurant/event/paul-bowman/
LOCATION:Micas Restaurant & Pub\, 25 Logan Creek Trail\, Sapphire\, NC\, 28774\, United States
ATTACH;FMTTYPE=image/jpeg:https://www.micas.restaurant/wp-content/uploads/2024/08/Paul-Bowman.jpg
ORGANIZER;CN="Phalen Bacon":MAILTO:mferrara@micasnc.com
END:VEVENT
BEGIN:VEVENT
DTSTART;TZID=America/New_York:20240827T180000
DTEND;TZID=America/New_York:20240827T210000
DTSTAMP:20260420T160001
CREATED:20240820T234252Z
LAST-MODIFIED:20240923T183403Z
UID:16343-1724781600-1724792400@www.micas.restaurant
SUMMARY:Paul Bowman
DESCRIPTION:Paul Bowman
URL:https://www.micas.restaurant/event/paul-bowman/
LOCATION:Micas Restaurant & Pub\, 25 Logan Creek Trail\, Sapphire\, NC\, 28774\, United States
ATTACH;FMTTYPE=image/jpeg:https://www.micas.restaurant/wp-content/uploads/2024/08/Paul-Bowman.jpg
ORGANIZER;CN="Phalen Bacon":MAILTO:mferrara@micasnc.com
END:VEVENT
BEGIN:VEVENT
DTSTART;TZID=America/New_York:20240827T180000
DTEND;TZID=America/New_York:20240827T210000
DTSTAMP:20260420T160001
CREATED:20240820T234252Z
LAST-MODIFIED:20240923T183403Z
UID:16343-1724781600-1724792400@www.micas.restaurant
SUMMARY:Paul Bowman
DESCRIPTION:Paul Bowman
URL:https://www.micas.restaurant/event/paul-bowman/
LOCATION:Micas Restaurant & Pub\, 25 Logan Creek Trail\, Sapphire\, NC\, 28774\, United States
ATTACH;FMTTYPE=image/jpeg:https://www.micas.restaurant/wp-content/uploads/2024/08/Paul-Bowman.jpg
ORGANIZER;CN="Phalen Bacon":MAILTO:mferrara@micasnc.com
END:VEVENT
BEGIN:VEVENT
DTSTART;TZID=America/New_York:20240827T180000
DTEND;TZID=America/New_York:20240827T210000
DTSTAMP:20260420T160001
CREATED:20240820T234252Z
LAST-MODIFIED:20240923T183403Z
UID:16343-1724781600-1724792400@www.micas.restaurant
SUMMARY:Paul Bowman
DESCRIPTION:Paul Bowman
URL:https://www.micas.restaurant/event/paul-bowman/
LOCATION:Micas Restaurant & Pub\, 25 Logan Creek Trail\, Sapphire\, NC\, 28774\, United States
ATTACH;FMTTYPE=image/jpeg:https://www.micas.restaurant/wp-content/uploads/2024/08/Paul-Bowman.jpg
ORGANIZER;CN="Phalen Bacon":MAILTO:mferrara@micasnc.com
END:VEVENT
BEGIN:VEVENT
DTSTART;TZID=America/New_York:20240827T180000
DTEND;TZID=America/New_York:20240827T210000
DTSTAMP:20260420T160001
CREATED:20240820T234252Z
LAST-MODIFIED:20240923T183403Z
UID:16343-1724781600-1724792400@www.micas.restaurant
SUMMARY:Paul Bowman
DESCRIPTION:Paul Bowman
URL:https://www.micas.restaurant/event/paul-bowman/
LOCATION:Micas Restaurant & Pub\, 25 Logan Creek Trail\, Sapphire\, NC\, 28774\, United States
ATTACH;FMTTYPE=image/jpeg:https://www.micas.restaurant/wp-content/uploads/2024/08/Paul-Bowman.jpg
ORGANIZER;CN="Phalen Bacon":MAILTO:mferrara@micasnc.com
END:VEVENT
BEGIN:VEVENT
DTSTART;TZID=America/New_York:20240827T180000
DTEND;TZID=America/New_York:20240827T210000
DTSTAMP:20260420T160001
CREATED:20240820T234252Z
LAST-MODIFIED:20240923T183403Z
UID:16343-1724781600-1724792400@www.micas.restaurant
SUMMARY:Paul Bowman
DESCRIPTION:Paul Bowman
URL:https://www.micas.restaurant/event/paul-bowman/
LOCATION:Micas Restaurant & Pub\, 25 Logan Creek Trail\, Sapphire\, NC\, 28774\, United States
ATTACH;FMTTYPE=image/jpeg:https://www.micas.restaurant/wp-content/uploads/2024/08/Paul-Bowman.jpg
ORGANIZER;CN="Phalen Bacon":MAILTO:mferrara@micasnc.com
END:VEVENT
BEGIN:VEVENT
DTSTART;TZID=America/New_York:20240827T180000
DTEND;TZID=America/New_York:20240827T210000
DTSTAMP:20260420T160001
CREATED:20240820T234252Z
LAST-MODIFIED:20240923T183403Z
UID:16343-1724781600-1724792400@www.micas.restaurant
SUMMARY:Paul Bowman
DESCRIPTION:Paul Bowman
URL:https://www.micas.restaurant/event/paul-bowman/
LOCATION:Micas Restaurant & Pub\, 25 Logan Creek Trail\, Sapphire\, NC\, 28774\, United States
ATTACH;FMTTYPE=image/jpeg:https://www.micas.restaurant/wp-content/uploads/2024/08/Paul-Bowman.jpg
ORGANIZER;CN="Phalen Bacon":MAILTO:mferrara@micasnc.com
END:VEVENT
BEGIN:VEVENT
DTSTART;TZID=America/New_York:20240827T180000
DTEND;TZID=America/New_York:20240827T210000
DTSTAMP:20260420T160001
CREATED:20240820T234252Z
LAST-MODIFIED:20240923T183403Z
UID:16343-1724781600-1724792400@www.micas.restaurant
SUMMARY:Paul Bowman
DESCRIPTION:Paul Bowman
URL:https://www.micas.restaurant/event/paul-bowman/
LOCATION:Micas Restaurant & Pub\, 25 Logan Creek Trail\, Sapphire\, NC\, 28774\, United States
ATTACH;FMTTYPE=image/jpeg:https://www.micas.restaurant/wp-content/uploads/2024/08/Paul-Bowman.jpg
ORGANIZER;CN="Phalen Bacon":MAILTO:mferrara@micasnc.com
END:VEVENT
BEGIN:VEVENT
DTSTART;TZID=America/New_York:20240827T180000
DTEND;TZID=America/New_York:20240827T210000
DTSTAMP:20260420T160001
CREATED:20240820T234252Z
LAST-MODIFIED:20240923T183403Z
UID:16343-1724781600-1724792400@www.micas.restaurant
SUMMARY:Paul Bowman
DESCRIPTION:Paul Bowman
URL:https://www.micas.restaurant/event/paul-bowman/
LOCATION:Micas Restaurant & Pub\, 25 Logan Creek Trail\, Sapphire\, NC\, 28774\, United States
ATTACH;FMTTYPE=image/jpeg:https://www.micas.restaurant/wp-content/uploads/2024/08/Paul-Bowman.jpg
ORGANIZER;CN="Phalen Bacon":MAILTO:mferrara@micasnc.com
END:VEVENT
BEGIN:VEVENT
DTSTART;TZID=America/New_York:20240827T180000
DTEND;TZID=America/New_York:20240827T210000
DTSTAMP:20260420T160001
CREATED:20240820T234252Z
LAST-MODIFIED:20240923T183403Z
UID:16343-1724781600-1724792400@www.micas.restaurant
SUMMARY:Paul Bowman
DESCRIPTION:Paul Bowman
URL:https://www.micas.restaurant/event/paul-bowman/
LOCATION:Micas Restaurant & Pub\, 25 Logan Creek Trail\, Sapphire\, NC\, 28774\, United States
ATTACH;FMTTYPE=image/jpeg:https://www.micas.restaurant/wp-content/uploads/2024/08/Paul-Bowman.jpg
ORGANIZER;CN="Phalen Bacon":MAILTO:mferrara@micasnc.com
END:VEVENT
BEGIN:VEVENT
DTSTART;TZID=America/New_York:20240827T180000
DTEND;TZID=America/New_York:20240827T210000
DTSTAMP:20260420T160001
CREATED:20240820T234252Z
LAST-MODIFIED:20240923T183403Z
UID:16343-1724781600-1724792400@www.micas.restaurant
SUMMARY:Paul Bowman
DESCRIPTION:Paul Bowman
URL:https://www.micas.restaurant/event/paul-bowman/
LOCATION:Micas Restaurant & Pub\, 25 Logan Creek Trail\, Sapphire\, NC\, 28774\, United States
ATTACH;FMTTYPE=image/jpeg:https://www.micas.restaurant/wp-content/uploads/2024/08/Paul-Bowman.jpg
ORGANIZER;CN="Phalen Bacon":MAILTO:mferrara@micasnc.com
END:VEVENT
BEGIN:VEVENT
DTSTART;TZID=America/New_York:20240827T180000
DTEND;TZID=America/New_York:20240827T210000
DTSTAMP:20260420T160001
CREATED:20240820T234252Z
LAST-MODIFIED:20240923T183403Z
UID:16343-1724781600-1724792400@www.micas.restaurant
SUMMARY:Paul Bowman
DESCRIPTION:Paul Bowman
URL:https://www.micas.restaurant/event/paul-bowman/
LOCATION:Micas Restaurant & Pub\, 25 Logan Creek Trail\, Sapphire\, NC\, 28774\, United States
ATTACH;FMTTYPE=image/jpeg:https://www.micas.restaurant/wp-content/uploads/2024/08/Paul-Bowman.jpg
ORGANIZER;CN="Phalen Bacon":MAILTO:mferrara@micasnc.com
END:VEVENT
BEGIN:VEVENT
DTSTART;TZID=America/New_York:20240827T180000
DTEND;TZID=America/New_York:20240827T210000
DTSTAMP:20260420T160001
CREATED:20240820T234252Z
LAST-MODIFIED:20240923T183403Z
UID:16343-1724781600-1724792400@www.micas.restaurant
SUMMARY:Paul Bowman
DESCRIPTION:Paul Bowman
URL:https://www.micas.restaurant/event/paul-bowman/
LOCATION:Micas Restaurant & Pub\, 25 Logan Creek Trail\, Sapphire\, NC\, 28774\, United States
ATTACH;FMTTYPE=image/jpeg:https://www.micas.restaurant/wp-content/uploads/2024/08/Paul-Bowman.jpg
ORGANIZER;CN="Phalen Bacon":MAILTO:mferrara@micasnc.com
END:VEVENT
BEGIN:VEVENT
DTSTART;TZID=America/New_York:20240827T180000
DTEND;TZID=America/New_York:20240827T210000
DTSTAMP:20260420T160001
CREATED:20240820T234252Z
LAST-MODIFIED:20240923T183403Z
UID:16343-1724781600-1724792400@www.micas.restaurant
SUMMARY:Paul Bowman
DESCRIPTION:Paul Bowman
URL:https://www.micas.restaurant/event/paul-bowman/
LOCATION:Micas Restaurant & Pub\, 25 Logan Creek Trail\, Sapphire\, NC\, 28774\, United States
ATTACH;FMTTYPE=image/jpeg:https://www.micas.restaurant/wp-content/uploads/2024/08/Paul-Bowman.jpg
ORGANIZER;CN="Phalen Bacon":MAILTO:mferrara@micasnc.com
END:VEVENT
BEGIN:VEVENT
DTSTART;TZID=America/New_York:20240827T180000
DTEND;TZID=America/New_York:20240827T210000
DTSTAMP:20260420T160001
CREATED:20240820T234252Z
LAST-MODIFIED:20240923T183403Z
UID:16343-1724781600-1724792400@www.micas.restaurant
SUMMARY:Paul Bowman
DESCRIPTION:Paul Bowman
URL:https://www.micas.restaurant/event/paul-bowman/
LOCATION:Micas Restaurant & Pub\, 25 Logan Creek Trail\, Sapphire\, NC\, 28774\, United States
ATTACH;FMTTYPE=image/jpeg:https://www.micas.restaurant/wp-content/uploads/2024/08/Paul-Bowman.jpg
ORGANIZER;CN="Phalen Bacon":MAILTO:mferrara@micasnc.com
END:VEVENT
BEGIN:VEVENT
DTSTART;TZID=America/New_York:20240827T180000
DTEND;TZID=America/New_York:20240827T210000
DTSTAMP:20260420T160001
CREATED:20240820T234252Z
LAST-MODIFIED:20240923T183403Z
UID:16343-1724781600-1724792400@www.micas.restaurant
SUMMARY:Paul Bowman
DESCRIPTION:Paul Bowman
URL:https://www.micas.restaurant/event/paul-bowman/
LOCATION:Micas Restaurant & Pub\, 25 Logan Creek Trail\, Sapphire\, NC\, 28774\, United States
ATTACH;FMTTYPE=image/jpeg:https://www.micas.restaurant/wp-content/uploads/2024/08/Paul-Bowman.jpg
ORGANIZER;CN="Phalen Bacon":MAILTO:mferrara@micasnc.com
END:VEVENT
END:VCALENDAR